BEGIN:VCALENDAR
VERSION:2.0
PRODID:-//KICK 104 - ECPv5.6.0//NONSGML v1.0//EN
CALSCALE:GREGORIAN
METHOD:PUBLISH
X-WR-CALNAME:KICK 104
X-ORIGINAL-URL:https://www.kick104.com
X-WR-CALDESC:Events for KICK 104
BEGIN:VTIMEZONE
TZID:America/Denver
BEGIN:DAYLIGHT
TZOFFSETFROM:-0700
TZOFFSETTO:-0600
TZNAME:MDT
DTSTART:20230312T090000
END:DAYLIGHT
BEGIN:STANDARD
TZOFFSETFROM:-0600
TZOFFSETTO:-0700
TZNAME:MST
DTSTART:20231105T080000
END:STANDARD
END:VTIMEZONE
BEGIN:VEVENT
DTSTART;TZID=America/Denver:20231007T090000
DTEND;TZID=America/Denver:20231007T190000
DTSTAMP:20260420T155535
CREATED:20230926T170553Z
LAST-MODIFIED:20230926T170553Z
UID:544854-1696669200-1696705200@www.kick104.com
SUMMARY:Run Crazy Horse Marathon and Half Marathon
DESCRIPTION:The Run Crazy Horse Half Marathon is a point to point course\, beginning at the Vistor’s Center at Crazy Horse Memorial. The first 3 miles are within the Memorial Grounds on both paved and gravel roads. Participants will pass by the old schoolhouse and loop out to the bus turnaround at the base of the Crazy Horse Carving. At mile 3\, the course becomes the Mickelson Trail. For the Half Marathoners\, he last 10 miles are a mixture of downhill and flat terrain. Half Marathoners will finish on Main Street in Hill City in front of the Bumpin’ Buffalo bar and grill.\nMiles 3-16 of the Full Marathon will be an out and back mainly on the Mickelson Trail. Outside of Crazy Horse Memorial\, marathoner runners will turn South on the Mickelson trail to the turnaround in Custer. At Mile 16\, it will be downhill back into Hill City to finish on Main Street.\nThe 5 person Marathon Relay will follow the same course as the Full Marathon. The relay exchange points will be between 5-7 miles apart. Exact distances are posted on the Relay Information Page.\nNO PETS or STROLLERS ON THE COURSE
URL:https://www.kick104.com/event/run-crazy-horse-marathon-and-half-marathon-2/2023-10-07/
LOCATION:Crazy Horse Memorial\, 12151 Avenue of the Chiefs\, Crazy Horse\, SD\, 57730\, United States
CATEGORIES:Community Calendar
END:VEVENT
END:VCALENDAR