BEGIN:VCALENDAR
VERSION:2.0
PRODID:-//KICK 104 - ECPv5.6.0//NONSGML v1.0//EN
CALSCALE:GREGORIAN
METHOD:PUBLISH
X-WR-CALNAME:KICK 104
X-ORIGINAL-URL:https://www.kick104.com
X-WR-CALDESC:Events for KICK 104
BEGIN:VTIMEZONE
TZID:America/Denver
BEGIN:DAYLIGHT
TZOFFSETFROM:-0700
TZOFFSETTO:-0600
TZNAME:MDT
DTSTART:20230312T090000
END:DAYLIGHT
BEGIN:STANDARD
TZOFFSETFROM:-0600
TZOFFSETTO:-0700
TZNAME:MST
DTSTART:20231105T080000
END:STANDARD
END:VTIMEZONE
BEGIN:VEVENT
DTSTART;VALUE=DATE:20231006
DTEND;VALUE=DATE:20231007
DTSTAMP:20260420T092241
CREATED:20230926T165157Z
LAST-MODIFIED:20230926T165157Z
UID:544842-1696550400-1696636799@www.kick104.com
SUMMARY:Oktoberfest
DESCRIPTION:Join us in Deadwood as we celebrate Oktoberfest in the Wild West! Enjoy live German music at the PolkaFest\, a poker run with prizes\, free food\, and dancing. Bring the whole family and join us for the now famous “Wiener Dog Races” and Beer Barrel Games!\nSCHEDULE:\nFriday\, October 6\n1-5 P.M. • Polka! Live Music – Outlaw Square\n4-7 P.M. • Poker Run Registration – Outlaw Square – Join us for a free poker run at various locations around Deadwood and win prizes! Must be 21+ to participate.\n5 P.M. • Brat Giveaway at TBD (while supplies last)\n5 – 9 P.M. • Poker Run – Various Locations – All completed poker run cards must be turned into the registration table at Outlaw Square by 9 P.M. to qualify.\n7-9 P.M. • Polka! Live Music – Outlaw Square\n9:15 P.M. • Poker Run Awards – Outlaw Square\nSATURDAY\, October 7\n11 A.M. • Registration for Wiener Dog Races – Main Street in front of Mustang Sally’s\n12 P.M. • Brat Giveaway (while supplies last) – at TBD\n1 P.M. • Wiener Dog Races – Main Street in front of The Bullock Hotel – Daschunds compete for “Fastest Wiener in the West” honors.\n1-4 P.M. • Weim\, Wine & Cheese – Main Street in front of the Saloon 10 – Wine & cheese tasting. Proceeds benefit the Canine Cancer Fund.\n1-4 P.M. • Polka! Live Music – Outlaw Square\n2 P.M. • Registration for Beer Barrel Games – Main Street in front of the Gold Dust – Must be 21+ to participate. Number of participants is limited.\n2-4 P.M. • German Cook-Off at locations around Deadwood\n3 P.M. • Beer Barrel Games – Main Street in front of the Gold Dust\n5-7 P.M. • Polka! Live Music – Outlaw Square\n7 P.M. • Beer Barrel Awards – Outlaw Square
URL:https://www.kick104.com/event/oktoberfest/2023-10-06/
LOCATION:City of Deadwood\, Deadwood \, United States
CATEGORIES:Community Calendar
END:VEVENT
END:VCALENDAR