BEGIN:VCALENDAR
VERSION:2.0
PRODID:-//KICK 104 - ECPv5.6.0//NONSGML v1.0//EN
CALSCALE:GREGORIAN
METHOD:PUBLISH
X-WR-CALNAME:KICK 104
X-ORIGINAL-URL:https://www.kick104.com
X-WR-CALDESC:Events for KICK 104
BEGIN:VTIMEZONE
TZID:America/Denver
BEGIN:DAYLIGHT
TZOFFSETFROM:-0700
TZOFFSETTO:-0600
TZNAME:MDT
DTSTART:20230312T090000
END:DAYLIGHT
BEGIN:STANDARD
TZOFFSETFROM:-0600
TZOFFSETTO:-0700
TZNAME:MST
DTSTART:20231105T080000
END:STANDARD
END:VTIMEZONE
BEGIN:VEVENT
DTSTART;TZID=America/Denver:20231013T180000
DTEND;TZID=America/Denver:20231013T223000
DTSTAMP:20260422T083658
CREATED:20231003T153209Z
LAST-MODIFIED:20231003T153209Z
UID:545111-1697220000-1697236200@www.kick104.com
SUMMARY:Haunting of Keystone
DESCRIPTION:You may have heard of spooky houses\, but have you ever considered a town plagued by eerie occurrences?\nDon’t overlook this year’s Haunting of Keystone\, featuring a thirteen-room\, multi-level haunted mansion with a fresh storyline annually. While some haunted dwellings fabricate their spectral entities\, we rouse ours from slumber.\nEmbark on a journey away from haunted graveyards\, steer clear of menacing jesters\, and remain vigilant for demons guaranteed to send shivers down even the sturdiest spines!\nJoin us this season as we delve into the enigmatic and unveil the concealed history of Keystone.\nGather your friends and summon your bravery as you venture to Keystone\, SD for a Halloween adventure unlike any other! Under the shroud of nightfall\, you’ll encounter four spine-chilling haunted attractions!
URL:https://www.kick104.com/event/haunting-of-keystone/2023-10-13/
LOCATION:City of Keystone\, Keystone\, SD\, 57751\, United States
CATEGORIES:Community Calendar
ATTACH;FMTTYPE=image/png:https://dehayf5mhw1h7.cloudfront.net/wp-content/uploads/sites/2444/2023/10/03153209/Haunting.png
END:VEVENT
END:VCALENDAR