BEGIN:VCALENDAR
VERSION:2.0
PRODID:-//KICK 104 - ECPv5.6.0//NONSGML v1.0//EN
CALSCALE:GREGORIAN
METHOD:PUBLISH
X-WR-CALNAME:KICK 104
X-ORIGINAL-URL:https://www.kick104.com
X-WR-CALDESC:Events for KICK 104
BEGIN:VTIMEZONE
TZID:America/Denver
BEGIN:DAYLIGHT
TZOFFSETFROM:-0700
TZOFFSETTO:-0600
TZNAME:MDT
DTSTART:20230312T090000
END:DAYLIGHT
BEGIN:STANDARD
TZOFFSETFROM:-0600
TZOFFSETTO:-0700
TZNAME:MST
DTSTART:20231105T080000
END:STANDARD
END:VTIMEZONE
BEGIN:VEVENT
DTSTART;TZID=America/Denver:20231007T080000
DTEND;TZID=America/Denver:20231007T170000
DTSTAMP:20260420T141041
CREATED:20230926T170843Z
LAST-MODIFIED:20230926T170843Z
UID:544857-1696665600-1696698000@www.kick104.com
SUMMARY:Fall Festival at Old Macdonalds Farm
DESCRIPTION:Join us at Old MacDonald’s Farm for this year’s Autumn Festival Days! Occurring each Saturday throughout October from 10 AM to 5 PM.\nBring your little ones for wagon rides\, bottle feedings\, pony outings\, pig races\, and more! While you’re here\, explore the pumpkin patch and prepare your jack-o-lanterns for Halloween.\nEntrance tickets grant access for all five Saturdays in October; simply present your receipt.\nAn abundance of enjoyable activities awaits! Several are complimentary\, while others require tickets:\nADMISSION RATES \n\nEntrance for Ages 2 and up: $8.50\nTickets for additional activities: $3.78 each\nBundle of 10 Tickets: $34 (Note: All prices are pre-tax.)
URL:https://www.kick104.com/event/fall-festival-at-old-macdonalds-farm-5/2023-10-07/
LOCATION:Old MacDonald’s Farm\, 23691 Busted Five Ct\, Rapid City\, SD\, 57702\, United States
CATEGORIES:Community Calendar
END:VEVENT
END:VCALENDAR