BEGIN:VCALENDAR
VERSION:2.0
PRODID:-//KICK 104 - ECPv5.6.0//NONSGML v1.0//EN
CALSCALE:GREGORIAN
METHOD:PUBLISH
X-WR-CALNAME:KICK 104
X-ORIGINAL-URL:https://www.kick104.com
X-WR-CALDESC:Events for KICK 104
BEGIN:VTIMEZONE
TZID:America/Denver
BEGIN:DAYLIGHT
TZOFFSETFROM:-0700
TZOFFSETTO:-0600
TZNAME:MDT
DTSTART:20230312T090000
END:DAYLIGHT
BEGIN:STANDARD
TZOFFSETFROM:-0600
TZOFFSETTO:-0700
TZNAME:MST
DTSTART:20231105T080000
END:STANDARD
END:VTIMEZONE
BEGIN:VEVENT
DTSTART;TZID=America/Denver:20230928T100000
DTEND;TZID=America/Denver:20230928T170000
DTSTAMP:20260422T135918
CREATED:20230912T165933Z
LAST-MODIFIED:20230912T165933Z
UID:544230-1695895200-1695920400@www.kick104.com
SUMMARY:Custer State Park Buffalo Roundup & Arts Festival
DESCRIPTION:Feel the thunder at the 58th Annual Custer State Park Buffalo Roundup on Friday\, September 29\, 2023. Watch cowboys\, cowgirls and park rangers as they roundup and drive the herd of approximately 1\,300 buffalo. Be sure to plan for plenty of time at the three-day Arts Festival\, September 28-30\, where more than 100 vendors will offer fine arts and crafts and South Dakota made products. (On Friday\, parking lots open at 6:15 a.m. Early arrival is recommended.) Admission: There is no admission to the Roundup or the Arts Festival\, but a park entrance license is required September 28 and 30 (it is not required September 29).
URL:https://www.kick104.com/event/custer-state-park-buffalo-roundup-arts-festival/2023-09-28/
LOCATION:Custer State Park\, 13329 US Highway 16A\, Custer\, SD\, 57730\, United States
CATEGORIES:Community Calendar
END:VEVENT
END:VCALENDAR