BEGIN:VCALENDAR
VERSION:2.0
PRODID:-//KICK 104 - ECPv5.6.0//NONSGML v1.0//EN
CALSCALE:GREGORIAN
METHOD:PUBLISH
X-WR-CALNAME:KICK 104
X-ORIGINAL-URL:https://www.kick104.com
X-WR-CALDESC:Events for KICK 104
BEGIN:VTIMEZONE
TZID:America/Denver
BEGIN:DAYLIGHT
TZOFFSETFROM:-0700
TZOFFSETTO:-0600
TZNAME:MDT
DTSTART:20240310T090000
END:DAYLIGHT
BEGIN:STANDARD
TZOFFSETFROM:-0600
TZOFFSETTO:-0700
TZNAME:MST
DTSTART:20241103T080000
END:STANDARD
END:VTIMEZONE
BEGIN:VEVENT
DTSTART;TZID=America/Denver:20240217T100000
DTEND;TZID=America/Denver:20240217T160000
DTSTAMP:20260421T191856
CREATED:20240129T220656Z
LAST-MODIFIED:20240129T220656Z
UID:549007-1708164000-1708185600@www.kick104.com
SUMMARY:Black Hills Winter Festival
DESCRIPTION:Enjoy two days of all-day fun that includes live music\, outdoor fire pits\, mulled wine\, spiked & nonspiked hot cocoa bar\, outdoor games\, touch-a-firetruck for the kids\, Craft Beer & Bingo\, specialty food tent and so much more! It’s free and open to everyone! Dress warm for outdoor activities! \nSaturday\, February 17\n\n10 AM- 5 PM Pop Up Shopping Event Love of Craft\, Krause Family Orchard\, & more!\n12 – 5 PM Winter Festival Food Tent at Miner Brewing Co.\n1 & 2:30 PM Sweet Crumbs Cookie Decorating Class Advanced tickets required\n2 PM Miner Mutt Dash Sponsored by Bar K-9\n4 PM Live Music at Miner Brewing Co. The Two Tracks\n\nSunday\, February 18\n\n10 AM- 5 PM Pop Up Shopping Event Love of Craft\, Krause Family Orchard\, & more!\n12 – 5 PM Winter Festival Food Tent at Miner Brewing Co.\n12 – 1:30 PM Craft Beer & Bingo Proceeds benefit Hill City Fire Dept. | Sponsored by Granite Sports\n4 PM Live Music at Miner Brewing Co. Harbor and Home
URL:https://www.kick104.com/event/black-hills-winter-festival/2024-02-17/
LOCATION:Prairie Berry Winery and Miner Brewing Co.\, 23837 Hwy 385\, Hill City\, SD\, 57745\, United States
CATEGORIES:Community Calendar
END:VEVENT
END:VCALENDAR