BEGIN:VCALENDAR
VERSION:2.0
PRODID:-//KICK 104 - ECPv5.6.0//NONSGML v1.0//EN
CALSCALE:GREGORIAN
METHOD:PUBLISH
X-WR-CALNAME:KICK 104
X-ORIGINAL-URL:https://www.kick104.com
X-WR-CALDESC:Events for KICK 104
BEGIN:VTIMEZONE
TZID:America/Denver
BEGIN:DAYLIGHT
TZOFFSETFROM:-0700
TZOFFSETTO:-0600
TZNAME:MDT
DTSTART:20240310T090000
END:DAYLIGHT
BEGIN:STANDARD
TZOFFSETFROM:-0600
TZOFFSETTO:-0700
TZNAME:MST
DTSTART:20241103T080000
END:STANDARD
END:VTIMEZONE
BEGIN:VEVENT
DTSTART;TZID=America/Denver:20240223T193000
DTEND;TZID=America/Denver:20240223T220000
DTSTAMP:20260420T174348
CREATED:20240220T000129Z
LAST-MODIFIED:20240220T000129Z
UID:549847-1708716600-1708725600@www.kick104.com
SUMMARY:Black Hills State University Theatre:  Little House On The Prairie The Musical
DESCRIPTION:Woodburn Theatre \nFamily Friendly Musical \nThe Story: This heartwarming musical follows the Ingalls family’s journey westward and settlement in De Smet\, South Dakota where Ma and Pa Ingalls hope to make a better life for their children. \nIt tells the story of their struggle to keep their land claim. In story\, song\, and dance\, we see the Ingalls weathering the hardships of winter blizzards and prairie fires as well as rejoicing in the settlement of land and town. \nMost of all\, the story follows Laura as she grows from a wild child who loves to run free into a woman who embraces the responsibilities of her own future while struggling to remain true to herself
URL:https://www.kick104.com/event/black-hills-state-university-theatre-little-house-on-the-prairie-the-musical/2024-02-23/
LOCATION:Black Hills State University\, 1200 University Street\, Spearfish\, 57785
CATEGORIES:Community Calendar
ORGANIZER;CN="Black%20Hills%20State%20University%20Theatre%20Department":MAILTO:Casey.Hibbert@BHSU.edu
END:VEVENT
END:VCALENDAR