BEGIN:VCALENDAR
VERSION:2.0
PRODID:-//KICK 104 - ECPv5.6.0//NONSGML v1.0//EN
CALSCALE:GREGORIAN
METHOD:PUBLISH
X-WR-CALNAME:KICK 104
X-ORIGINAL-URL:https://www.kick104.com
X-WR-CALDESC:Events for KICK 104
BEGIN:VTIMEZONE
TZID:America/Denver
BEGIN:DAYLIGHT
TZOFFSETFROM:-0700
TZOFFSETTO:-0600
TZNAME:MDT
DTSTART:20230312T090000
END:DAYLIGHT
BEGIN:STANDARD
TZOFFSETFROM:-0600
TZOFFSETTO:-0700
TZNAME:MST
DTSTART:20231105T080000
END:STANDARD
END:VTIMEZONE
BEGIN:VEVENT
DTSTART;VALUE=DATE:20230929
DTEND;VALUE=DATE:20230930
DTSTAMP:20260422T033945
CREATED:20230919T164431Z
LAST-MODIFIED:20230919T164431Z
UID:544543-1695945600-1696031999@www.kick104.com
SUMMARY:Black Hills Film Festival
DESCRIPTION:The upcoming 14th edition of the Festival has been planned to take place from September 29th to October 1st. This highly regarded film festival in the Black Hills area is set to make a return in September\, offering a fresh lineup of films\, merchandise\, valuable perspectives from filmmakers\, notable guests\, networking opportunities\, and much more. We are thrilled to foster the appreciation of filmmaking within the Black Hills region. It is with great pride that we announce the inclusion of films in both Hot Springs\, SD\, and Hill City\, SD.
URL:https://www.kick104.com/event/black-hills-film-festival/2023-09-29/
LOCATION:Hill City & Hot Springs
CATEGORIES:Community Calendar
END:VEVENT
END:VCALENDAR