BEGIN:VCALENDAR
VERSION:2.0
PRODID:-//KICK 104 - ECPv5.6.0//NONSGML v1.0//EN
CALSCALE:GREGORIAN
METHOD:PUBLISH
X-WR-CALNAME:KICK 104
X-ORIGINAL-URL:https://www.kick104.com
X-WR-CALDESC:Events for KICK 104
BEGIN:VTIMEZONE
TZID:America/Denver
BEGIN:DAYLIGHT
TZOFFSETFROM:-0700
TZOFFSETTO:-0600
TZNAME:MDT
DTSTART:20230312T090000
END:DAYLIGHT
BEGIN:STANDARD
TZOFFSETFROM:-0600
TZOFFSETTO:-0700
TZNAME:MST
DTSTART:20231105T080000
END:STANDARD
END:VTIMEZONE
BEGIN:VEVENT
DTSTART;TZID=America/Denver:20231007T110000
DTEND;TZID=America/Denver:20231007T140000
DTSTAMP:20260420T210614
CREATED:20230926T165916Z
LAST-MODIFIED:20230926T165916Z
UID:544847-1696676400-1696687200@www.kick104.com
SUMMARY:Black Hills Farmers Market [Saturday]
DESCRIPTION:Black Hills Farmers Market offers locally-produced foods and fine arts including fruits\, vegetables\, mushrooms\, meats\, eggs\, honey\, fresh-baked goods\, herbs\, pickles\, salsas\, jams\, jellies\, dairy\, and hand-crafted items.
URL:https://www.kick104.com/event/black-hills-farmers-market-saturday/2023-10-07/
LOCATION:Market Park\, 245 E Omaha St\, Rapid City
CATEGORIES:Community Calendar
END:VEVENT
END:VCALENDAR