BEGIN:VCALENDAR
VERSION:2.0
PRODID:-//KICK 104 - ECPv5.6.0//NONSGML v1.0//EN
CALSCALE:GREGORIAN
METHOD:PUBLISH
X-WR-CALNAME:KICK 104
X-ORIGINAL-URL:https://www.kick104.com
X-WR-CALDESC:Events for KICK 104
BEGIN:VTIMEZONE
TZID:America/Denver
BEGIN:DAYLIGHT
TZOFFSETFROM:-0700
TZOFFSETTO:-0600
TZNAME:MDT
DTSTART:20260308T090000
END:DAYLIGHT
BEGIN:STANDARD
TZOFFSETFROM:-0600
TZOFFSETTO:-0700
TZNAME:MST
DTSTART:20261101T080000
END:STANDARD
END:VTIMEZONE
BEGIN:VEVENT
DTSTART;TZID=America/Denver:20260502T080000
DTEND;TZID=America/Denver:20260502T130000
DTSTAMP:20260421T110322
CREATED:20260413T211649Z
LAST-MODIFIED:20260413T211649Z
UID:574230-1777708800-1777726800@www.kick104.com
SUMMARY:Black Hills Farmers Market
DESCRIPTION:Black Hills Farmers Market hosts a variety of community organizations in addition to our wonderful food producers. \nIn the summer months\, customers can \n\nask questions of the Master Gardeners\nvisit a local non-profit or presenter in the community booth\nor visit Rapid City Public Library’s Book Mobile.
URL:https://www.kick104.com/event/black-hills-farmers-market-41/
LOCATION:Market Park\, 245 E Omaha St\, Rapid City
CATEGORIES:Community Calendar
ORGANIZER;CN="Black%20Hills%20Farmers%20Market":MAILTO:manager@blackhillsfarmersmarket.org
END:VEVENT
BEGIN:VEVENT
DTSTART;TZID=America/Denver:20260509T080000
DTEND;TZID=America/Denver:20260509T130000
DTSTAMP:20260421T110322
CREATED:20260413T211649Z
LAST-MODIFIED:20260413T211649Z
UID:574231-1778313600-1778331600@www.kick104.com
SUMMARY:Black Hills Farmers Market
DESCRIPTION:Black Hills Farmers Market hosts a variety of community organizations in addition to our wonderful food producers. \nIn the summer months\, customers can \n\nask questions of the Master Gardeners\nvisit a local non-profit or presenter in the community booth\nor visit Rapid City Public Library’s Book Mobile.
URL:https://www.kick104.com/event/black-hills-farmers-market-41/2026-05-09/
LOCATION:Market Park\, 245 E Omaha St\, Rapid City
CATEGORIES:Community Calendar
ORGANIZER;CN="Black%20Hills%20Farmers%20Market":MAILTO:manager@blackhillsfarmersmarket.org
END:VEVENT
BEGIN:VEVENT
DTSTART;TZID=America/Denver:20260516T080000
DTEND;TZID=America/Denver:20260516T130000
DTSTAMP:20260421T110322
CREATED:20260413T211649Z
LAST-MODIFIED:20260413T211649Z
UID:574232-1778918400-1778936400@www.kick104.com
SUMMARY:Black Hills Farmers Market
DESCRIPTION:Black Hills Farmers Market hosts a variety of community organizations in addition to our wonderful food producers. \nIn the summer months\, customers can \n\nask questions of the Master Gardeners\nvisit a local non-profit or presenter in the community booth\nor visit Rapid City Public Library’s Book Mobile.
URL:https://www.kick104.com/event/black-hills-farmers-market-41/2026-05-16/
LOCATION:Market Park\, 245 E Omaha St\, Rapid City
CATEGORIES:Community Calendar
ORGANIZER;CN="Black%20Hills%20Farmers%20Market":MAILTO:manager@blackhillsfarmersmarket.org
END:VEVENT
BEGIN:VEVENT
DTSTART;TZID=America/Denver:20260523T080000
DTEND;TZID=America/Denver:20260523T130000
DTSTAMP:20260421T110322
CREATED:20260413T211649Z
LAST-MODIFIED:20260413T211649Z
UID:574233-1779523200-1779541200@www.kick104.com
SUMMARY:Black Hills Farmers Market
DESCRIPTION:Black Hills Farmers Market hosts a variety of community organizations in addition to our wonderful food producers. \nIn the summer months\, customers can \n\nask questions of the Master Gardeners\nvisit a local non-profit or presenter in the community booth\nor visit Rapid City Public Library’s Book Mobile.
URL:https://www.kick104.com/event/black-hills-farmers-market-41/2026-05-23/
LOCATION:Market Park\, 245 E Omaha St\, Rapid City
CATEGORIES:Community Calendar
ORGANIZER;CN="Black%20Hills%20Farmers%20Market":MAILTO:manager@blackhillsfarmersmarket.org
END:VEVENT
BEGIN:VEVENT
DTSTART;TZID=America/Denver:20260530T080000
DTEND;TZID=America/Denver:20260530T130000
DTSTAMP:20260421T110322
CREATED:20260413T211649Z
LAST-MODIFIED:20260413T211649Z
UID:574234-1780128000-1780146000@www.kick104.com
SUMMARY:Black Hills Farmers Market
DESCRIPTION:Black Hills Farmers Market hosts a variety of community organizations in addition to our wonderful food producers. \nIn the summer months\, customers can \n\nask questions of the Master Gardeners\nvisit a local non-profit or presenter in the community booth\nor visit Rapid City Public Library’s Book Mobile.
URL:https://www.kick104.com/event/black-hills-farmers-market-41/2026-05-30/
LOCATION:Market Park\, 245 E Omaha St\, Rapid City
CATEGORIES:Community Calendar
ORGANIZER;CN="Black%20Hills%20Farmers%20Market":MAILTO:manager@blackhillsfarmersmarket.org
END:VEVENT
BEGIN:VEVENT
DTSTART;TZID=America/Denver:20260606T080000
DTEND;TZID=America/Denver:20260606T130000
DTSTAMP:20260421T110322
CREATED:20260413T211649Z
LAST-MODIFIED:20260413T211649Z
UID:574235-1780732800-1780750800@www.kick104.com
SUMMARY:Black Hills Farmers Market
DESCRIPTION:Black Hills Farmers Market hosts a variety of community organizations in addition to our wonderful food producers. \nIn the summer months\, customers can \n\nask questions of the Master Gardeners\nvisit a local non-profit or presenter in the community booth\nor visit Rapid City Public Library’s Book Mobile.
URL:https://www.kick104.com/event/black-hills-farmers-market-41/2026-06-06/
LOCATION:Market Park\, 245 E Omaha St\, Rapid City
CATEGORIES:Community Calendar
ORGANIZER;CN="Black%20Hills%20Farmers%20Market":MAILTO:manager@blackhillsfarmersmarket.org
END:VEVENT
BEGIN:VEVENT
DTSTART;TZID=America/Denver:20260613T080000
DTEND;TZID=America/Denver:20260613T130000
DTSTAMP:20260421T110322
CREATED:20260413T211649Z
LAST-MODIFIED:20260413T211649Z
UID:574236-1781337600-1781355600@www.kick104.com
SUMMARY:Black Hills Farmers Market
DESCRIPTION:Black Hills Farmers Market hosts a variety of community organizations in addition to our wonderful food producers. \nIn the summer months\, customers can \n\nask questions of the Master Gardeners\nvisit a local non-profit or presenter in the community booth\nor visit Rapid City Public Library’s Book Mobile.
URL:https://www.kick104.com/event/black-hills-farmers-market-41/2026-06-13/
LOCATION:Market Park\, 245 E Omaha St\, Rapid City
CATEGORIES:Community Calendar
ORGANIZER;CN="Black%20Hills%20Farmers%20Market":MAILTO:manager@blackhillsfarmersmarket.org
END:VEVENT
BEGIN:VEVENT
DTSTART;TZID=America/Denver:20260620T080000
DTEND;TZID=America/Denver:20260620T130000
DTSTAMP:20260421T110322
CREATED:20260413T211649Z
LAST-MODIFIED:20260413T211649Z
UID:574237-1781942400-1781960400@www.kick104.com
SUMMARY:Black Hills Farmers Market
DESCRIPTION:Black Hills Farmers Market hosts a variety of community organizations in addition to our wonderful food producers. \nIn the summer months\, customers can \n\nask questions of the Master Gardeners\nvisit a local non-profit or presenter in the community booth\nor visit Rapid City Public Library’s Book Mobile.
URL:https://www.kick104.com/event/black-hills-farmers-market-41/2026-06-20/
LOCATION:Market Park\, 245 E Omaha St\, Rapid City
CATEGORIES:Community Calendar
ORGANIZER;CN="Black%20Hills%20Farmers%20Market":MAILTO:manager@blackhillsfarmersmarket.org
END:VEVENT
BEGIN:VEVENT
DTSTART;TZID=America/Denver:20260627T080000
DTEND;TZID=America/Denver:20260627T130000
DTSTAMP:20260421T110322
CREATED:20260413T211649Z
LAST-MODIFIED:20260413T211649Z
UID:574238-1782547200-1782565200@www.kick104.com
SUMMARY:Black Hills Farmers Market
DESCRIPTION:Black Hills Farmers Market hosts a variety of community organizations in addition to our wonderful food producers. \nIn the summer months\, customers can \n\nask questions of the Master Gardeners\nvisit a local non-profit or presenter in the community booth\nor visit Rapid City Public Library’s Book Mobile.
URL:https://www.kick104.com/event/black-hills-farmers-market-41/2026-06-27/
LOCATION:Market Park\, 245 E Omaha St\, Rapid City
CATEGORIES:Community Calendar
ORGANIZER;CN="Black%20Hills%20Farmers%20Market":MAILTO:manager@blackhillsfarmersmarket.org
END:VEVENT
BEGIN:VEVENT
DTSTART;TZID=America/Denver:20260704T080000
DTEND;TZID=America/Denver:20260704T130000
DTSTAMP:20260421T110322
CREATED:20260413T211649Z
LAST-MODIFIED:20260413T211649Z
UID:574239-1783152000-1783170000@www.kick104.com
SUMMARY:Black Hills Farmers Market
DESCRIPTION:Black Hills Farmers Market hosts a variety of community organizations in addition to our wonderful food producers. \nIn the summer months\, customers can \n\nask questions of the Master Gardeners\nvisit a local non-profit or presenter in the community booth\nor visit Rapid City Public Library’s Book Mobile.
URL:https://www.kick104.com/event/black-hills-farmers-market-41/2026-07-04/
LOCATION:Market Park\, 245 E Omaha St\, Rapid City
CATEGORIES:Community Calendar
ORGANIZER;CN="Black%20Hills%20Farmers%20Market":MAILTO:manager@blackhillsfarmersmarket.org
END:VEVENT
BEGIN:VEVENT
DTSTART;TZID=America/Denver:20260711T080000
DTEND;TZID=America/Denver:20260711T130000
DTSTAMP:20260421T110322
CREATED:20260413T211649Z
LAST-MODIFIED:20260413T211649Z
UID:574240-1783756800-1783774800@www.kick104.com
SUMMARY:Black Hills Farmers Market
DESCRIPTION:Black Hills Farmers Market hosts a variety of community organizations in addition to our wonderful food producers. \nIn the summer months\, customers can \n\nask questions of the Master Gardeners\nvisit a local non-profit or presenter in the community booth\nor visit Rapid City Public Library’s Book Mobile.
URL:https://www.kick104.com/event/black-hills-farmers-market-41/2026-07-11/
LOCATION:Market Park\, 245 E Omaha St\, Rapid City
CATEGORIES:Community Calendar
ORGANIZER;CN="Black%20Hills%20Farmers%20Market":MAILTO:manager@blackhillsfarmersmarket.org
END:VEVENT
END:VCALENDAR