BEGIN:VCALENDAR
VERSION:2.0
PRODID:-//KICK 104 - ECPv5.6.0//NONSGML v1.0//EN
CALSCALE:GREGORIAN
METHOD:PUBLISH
X-WR-CALNAME:KICK 104
X-ORIGINAL-URL:https://www.kick104.com
X-WR-CALDESC:Events for KICK 104
BEGIN:VTIMEZONE
TZID:America/Denver
BEGIN:DAYLIGHT
TZOFFSETFROM:-0700
TZOFFSETTO:-0600
TZNAME:MDT
DTSTART:20260308T090000
END:DAYLIGHT
BEGIN:STANDARD
TZOFFSETFROM:-0600
TZOFFSETTO:-0700
TZNAME:MST
DTSTART:20261101T080000
END:STANDARD
END:VTIMEZONE
BEGIN:VEVENT
DTSTART;TZID=America/Denver:20260711T080000
DTEND;TZID=America/Denver:20260711T130000
DTSTAMP:20260421T130243
CREATED:20260413T211649Z
LAST-MODIFIED:20260413T211649Z
UID:574240-1783756800-1783774800@www.kick104.com
SUMMARY:Black Hills Farmers Market
DESCRIPTION:Black Hills Farmers Market hosts a variety of community organizations in addition to our wonderful food producers. \nIn the summer months\, customers can \n\nask questions of the Master Gardeners\nvisit a local non-profit or presenter in the community booth\nor visit Rapid City Public Library’s Book Mobile.
URL:https://www.kick104.com/event/black-hills-farmers-market-41/2026-07-11/
LOCATION:Market Park\, 245 E Omaha St\, Rapid City
CATEGORIES:Community Calendar
ORGANIZER;CN="Black%20Hills%20Farmers%20Market":MAILTO:manager@blackhillsfarmersmarket.org
END:VEVENT
BEGIN:VEVENT
DTSTART;VALUE=DATE:20260818
DTEND;VALUE=DATE:20260824
DTSTAMP:20260421T130243
CREATED:20260320T190504Z
LAST-MODIFIED:20260320T190504Z
UID:573615-1787011200-1787529599@www.kick104.com
SUMMARY:Kool Deadwood Nites
DESCRIPTION:Kool Deadwood Nites brings car lovers together for SIX days full of classic cars\, classic music and classic fun. It’s a 50’s and 60’s sock hop – Deadwood style. \nEnjoy a parade\, show and shine and FREE concerts on Main Street featuring the biggest names in rock ‘n roll history. 2026 – We’re starting the event a day early! \nWe’ll be announcing an entertainment and activity schedule for Tuesday soon. Plus\, new additions to Wednesday’s activities for classic car owners.
URL:https://www.kick104.com/event/kool-deadwood-nites-14/
LOCATION:City of Deadwood\, Deadwood \, United States
CATEGORIES:Community Calendar
END:VEVENT
BEGIN:VEVENT
DTSTART;VALUE=DATE:20261002
DTEND;VALUE=DATE:20261004
DTSTAMP:20260421T130243
CREATED:20260320T191140Z
LAST-MODIFIED:20260320T191140Z
UID:573617-1790899200-1791071999@www.kick104.com
SUMMARY:Oktoberfest
DESCRIPTION:Join us in Deadwood as we celebrate Oktoberfest in the Wild West!\n\nEnjoy our new German Car Show\, a poker run with prizes\, free food\, and dancing. Bring the whole family and join us for the now famous “Wiener Dog Races” and Beer Barrel Games!\n\nThis event is sponsored in part by the Deadwood Chamber\, Budweiser\, MIDCO and KEVN Black Hills Fox TV.\n\nSCHEDULE: TBD
URL:https://www.kick104.com/event/oktoberfest-2/
LOCATION:City of Deadwood\, Deadwood \, United States
CATEGORIES:Community Calendar
END:VEVENT
BEGIN:VEVENT
DTSTART;VALUE=DATE:20261015
DTEND;VALUE=DATE:20261018
DTSTAMP:20260421T130243
CREATED:20260320T191609Z
LAST-MODIFIED:20260320T191609Z
UID:573619-1792022400-1792281599@www.kick104.com
SUMMARY:Songwriters Festival
DESCRIPTION:Dubbed one of the “best live music festivals for fans” and one of the “top ten songwriter’s festivals you don’t want to miss”\n\nThe three-day event will feature FREE performances by songwriters that have produced or co-written hits for artists such as Keith Urban\, Miranda Lambert\, Dierks Bentley\, Reba McEntire\, Linda Ronstadt\, Faith Hill\, Kenny Chesney\, Garth Brooks and many more.\n\nSaturday\, Oct. 17\nNational Songwriters’ Showcase at Deadwood Mountain Grand’s Event Center beginning at 8:30 pm featuring many of the national writers performing\, as well as top-placing regional songwriters.\n\nThe Songwriter’s Showcase has a $10 cover charge at the door.\n\nFor more information\, email info@dmgrand.com.
URL:https://www.kick104.com/event/songwriters-festival/
CATEGORIES:Community Calendar
END:VEVENT
BEGIN:VEVENT
DTSTART;VALUE=DATE:20261031
DTEND;VALUE=DATE:20261101
DTSTAMP:20260421T130243
CREATED:20260410T184449Z
LAST-MODIFIED:20260410T184449Z
UID:574168-1793404800-1793491199@www.kick104.com
SUMMARY:Trunk or Treat
DESCRIPTION:Enjoy family-friendly trick or treating in Deadwood on Saturday\, October 31 outdoors at the Days of ’76 Event Complex –\n\nTrunk or Treat – All are welcome!\nTreats from trunks of vehicles will be served from 4p.m. to 6 p.m.\n\nThe Deadwood Chamber is looking for individuals and businesses that would like to give out candy at the Days of ’76 Event Complex for Trunk or Treat.\n\nThose interested should plan to be at the Event Complex to be parked by 3:30 p.m. on Saturday\, October 31. Call the Chamber at (605) 578-1876 to sign up.\n\nAny business that is unable to participate but would still like to donate candy to be given away is encouraged to contact the Chamber for pickup/delivery arrangements.\n 
URL:https://www.kick104.com/event/trunk-or-treat/
LOCATION:City of Deadwood\, Deadwood \, United States
CATEGORIES:Community Calendar
END:VEVENT
BEGIN:VEVENT
DTSTART;VALUE=DATE:20261107
DTEND;VALUE=DATE:20261108
DTSTAMP:20260421T130243
CREATED:20260410T185127Z
LAST-MODIFIED:20260410T185127Z
UID:574170-1794009600-1794095999@www.kick104.com
SUMMARY:Big Whiskey 2026
DESCRIPTION:Big Whiskey participants can expect to select from more than 60 different Whiskeys including Rye\, Scotch\, Irish\, Bourbon\, Japanese & Canadian at several different locations during the Big Whiskey Festival. Tickets are limited.\n\nTickets get you 10 sample tickets so you can choose what you’d like to sample!\n\nREGISTRATION: 3-5 P.M. AT SALOON #10\nBIG WHISKEY FESTIVAL: 4-10 P.M. AT PARTICIPATING LOCATIONS\n\nExplore Deadwood and sample a variety of Whiskey\, Scotch and Bourbon varieties at participating locations
URL:https://www.kick104.com/event/big-whiskey-2026/
LOCATION:Saloon #10\, 657 Main Street\, Deadwood\, SD\, 57732\, United States
CATEGORIES:Community Calendar
END:VEVENT
BEGIN:VEVENT
DTSTART;VALUE=DATE:20261204
DTEND;VALUE=DATE:20261205
DTSTAMP:20260421T130243
CREATED:20260410T185458Z
LAST-MODIFIED:20260410T185458Z
UID:574172-1796342400-1796428799@www.kick104.com
SUMMARY:2026 Community Christmas & Deadwood Chamber Awards
DESCRIPTION:Head to Outlaw Square in Deadwood\, South Dakota on Friday\, Dec. 4 for the annual community tree lighting and Chamber awards! \nThere will be free ice skating and discounted bumper car rides (starting at 3pm)\, free s’mores making and cocoa\, and more\, including a visit from Santa (with gifts!). \nThe Chamber annual awards will be announced at 5:30 p.m.; the tree lighting will be at 6 p.m. and Santa will arrive right after tree lighting! \nCelebrate the season at this family-friendly event!
URL:https://www.kick104.com/event/2026-community-christmas-deadwood-chamber-awards/
LOCATION:City of Deadwood\, Deadwood \, United States
CATEGORIES:Community Calendar
END:VEVENT
BEGIN:VEVENT
DTSTART;VALUE=DATE:20261211
DTEND;VALUE=DATE:20261213
DTSTAMP:20260421T130243
CREATED:20260410T185819Z
LAST-MODIFIED:20260410T185819Z
UID:574174-1796947200-1797119999@www.kick104.com
SUMMARY:Kringle Crawl
DESCRIPTION:Welcome to Deadwood’s Kringle Crawl Weekend! Get ready for a festive weekend full of holiday cheer in Deadwood\, South Dakota.\n\nJoin us for a jolly good time as we celebrate the season with friends\, shopping and a few adult beverages. Don’t miss out on the chance to make lasting holiday memories. See you there!\n\nEVENT SCHEDULE\n\nFriday December 11th4-7pm: Registration at Eagle Bar (608 Main Street)5-8pm: Christmas Cocktail Crawl at participating businesses\, drink samples included in ticket price.\n\nSaturday December 12thNoon-3pm: Registration at Eagle Bar (608 Main Street)All Day: Santa’s Shop Around. Shopping discounts at participating businesses with your lanyard2:30pm: Meet at the Eagle Bar for Pub Crawl Group Picture3pm: All Pub Crawl clans leave from the Eagle Bar3-7pm: Kringle Crawl (Santa themed Pub Crawl at participating locations on Main St.) Drinks available for purchase.7:30pm: Awards and After Party at Eagle Bar (608 Main Street)\n\nWHAT CAN I WIN?\n· Awards for Kringle Crawl Clan of the Year\, Best Dressed\, and Ugliest Sweater· $250 Bar Tab Kringle Crawl Clan on the Year· $50 Deadwood Bucks Best Dressed· $50 Deadwood Bucks Ugliest Sweater\n\nATTENTION: All ticket holders must come through registration on Friday from 4pm-7pm or Saturday from noon-3pm to pick up items and be age verified.\nDeadwood Open Container times:12/11/26 5pm to 10pm12/12/26 noon to 10pm\n\nThis event is a fundraiser for the Deadwood Chamber of Commerce & Visitors Bureau. No refunds. Tickets limited to 400 people. Must be 21. All participants must agree to a waiver and release of claims.
URL:https://www.kick104.com/event/kringle-crawl/
LOCATION:City of Deadwood\, Deadwood \, United States
END:VEVENT
END:VCALENDAR